BEGIN:VCALENDAR
VERSION:2.0
PRODID:-//Taking Care of Elvis - ECPv6.3.5//NONSGML v1.0//EN
CALSCALE:GREGORIAN
METHOD:PUBLISH
X-ORIGINAL-URL:https://www.takingcareofelvis.co.uk
X-WR-CALDESC:Events for Taking Care of Elvis
REFRESH-INTERVAL;VALUE=DURATION:PT1H
X-Robots-Tag:noindex
X-PUBLISHED-TTL:PT1H
BEGIN:VTIMEZONE
TZID:UTC
BEGIN:STANDARD
TZOFFSETFROM:+0000
TZOFFSETTO:+0000
TZNAME:UTC
DTSTART:20250101T000000
END:STANDARD
END:VTIMEZONE
BEGIN:VEVENT
DTSTART;TZID=UTC:20251003T193000
DTEND;TZID=UTC:20251003T220000
DTSTAMP:20260419T200949
CREATED:20240925T104107Z
LAST-MODIFIED:20250922T110238Z
UID:2446-1759519800-1759528800@www.takingcareofelvis.co.uk
SUMMARY:Ben Portsmouth: This is Elvis 2025 Tour - Portsmouth Guildhall
DESCRIPTION:Ben Portsmouth brings the ULTIMATE Elvis experience to the Portsmouth Guildhall! \nBen is not just a tribute artist; he is the real deal\, being regarded as the closest living performer to the legendary Elvis Presley.  With global success in over 20 countries\, Ben Portsmouth brings energy\, passion and authenticity in a way that no one else can deliver. \nMaking history in 2012\, Ben broke records becoming the first European to be crowned by Elvis Presley Enterprises as the ‘Worldwide Ultimate Elvis Tribute Artist’ in Memphis\, which swiftly followed with an invite to headline a special Elvis week on the Late Show with David Letterman. \n‘This is Elvis’ offers an immersive journey through Presley’s most iconic eras with greatest hits from his early rockabilly roots to the dazzling Vegas years.  Whether you’re a lifelong Elvis fan or just discovering his music\, this is a show for all generations! \nBen and the Taking Care of Elvis Band brings you a dynamic and unforgettable experience that enthusiasts all over the world claim\, ‘feels like a live concert with the King himself’.  Trust us\, you won’t be able to resist Ben’s looks\, charm and charisma! \nHaving witnessed sellout performances on the same Vegas stage as Elvis\, to London’s West End\, don’t miss out on your chance to see ‘This is Elvis‘ — book now for an unforgettable night that will have you ‘all shook up’!
URL:https://www.takingcareofelvis.co.uk/event/ben-portsmouth-this-is-elvis-2024-tour-portsmouth-guildhall/
LOCATION:Portsmouth Guild Hall\, Guildhall Square\, Portsmouth\, Hampshire\, PO1 2AB
ATTACH;FMTTYPE=image/jpeg:https://www.takingcareofelvis.co.uk/wp-content/uploads/2023/03/ben-portsmouth-this-is-elvis-2024-tour-banner.jpg
END:VEVENT
BEGIN:VEVENT
DTSTART;TZID=UTC:20251010T193000
DTEND;TZID=UTC:20251010T220000
DTSTAMP:20260419T200949
CREATED:20241108T145651Z
LAST-MODIFIED:20250624T100146Z
UID:2487-1760124600-1760133600@www.takingcareofelvis.co.uk
SUMMARY:Ben Portsmouth: This is Elvis 2025 Tour - Embassy Theatre\, Skegness
DESCRIPTION:Ben Portsmouth brings the ULTIMATE Elvis experience to the Embassy Theatre! \nBen is not just a tribute artist; he is the real deal\, being regarded as the closest living performer to the legendary Elvis Presley.  With global success in over 20 countries\, Ben Portsmouth brings energy\, passion and authenticity in a way that no one else can deliver. \nMaking history in 2012\, Ben broke records becoming the first European to be crowned by Elvis Presley Enterprises as the ‘Worldwide Ultimate Elvis Tribute Artist’ in Memphis\, which swiftly followed with an invite to headline a special Elvis week on the Late Show with David Letterman. \n‘This is Elvis’ offers an immersive journey through Presley’s most iconic eras with greatest hits from his early rockabilly roots to the dazzling Vegas years.  Whether you’re a lifelong Elvis fan or just discovering his music\, this is a show for all generations! \nBen and the Taking Care of Elvis Band brings you a dynamic and unforgettable experience that enthusiasts all over the world claim\, ‘feels like a live concert with the King himself’.  Trust us\, you won’t be able to resist Ben’s looks\, charm and charisma! \nHaving witnessed sellout performances on the same Vegas stage as Elvis\, to London’s West End\, don’t miss out on your chance to see ‘This is Elvis‘ — book now for an unforgettable night that will have you ‘all shook up’!
URL:https://www.takingcareofelvis.co.uk/event/ben-portsmouth-this-is-elvis-2024-tour-embassy-theatre-skegness-2/
LOCATION:Embassy Theatre\, Skegness\, Grand Parade\, Skegness\, Lincolnshire\, PE25 2UG
ATTACH;FMTTYPE=image/jpeg:https://www.takingcareofelvis.co.uk/wp-content/uploads/2023/03/ben-portsmouth-this-is-elvis-2024-tour-banner.jpg
END:VEVENT
BEGIN:VEVENT
DTSTART;TZID=UTC:20251011T193000
DTEND;TZID=UTC:20251011T220000
DTSTAMP:20260419T200949
CREATED:20241105T204012Z
LAST-MODIFIED:20250929T071008Z
UID:2482-1760211000-1760220000@www.takingcareofelvis.co.uk
SUMMARY:Ben Portsmouth: This is Elvis 2025 Tour - York Barbican\, York
DESCRIPTION:Ben Portsmouth brings the ULTIMATE Elvis experience to the York Barbican! \nBen is not just a tribute artist; he is the real deal\, being regarded as the closest living performer to the legendary Elvis Presley.  With global success in over 20 countries\, Ben Portsmouth brings energy\, passion and authenticity in a way that no one else can deliver. \nMaking history in 2012\, Ben broke records becoming the first European to be crowned by Elvis Presley Enterprises as the ‘Worldwide Ultimate Elvis Tribute Artist’ in Memphis\, which swiftly followed with an invite to headline a special Elvis week on the Late Show with David Letterman. \n‘This is Elvis’ offers an immersive journey through Presley’s most iconic eras with greatest hits from his early rockabilly roots to the dazzling Vegas years.  Whether you’re a lifelong Elvis fan or just discovering his music\, this is a show for all generations! \nBen and the Taking Care of Elvis Band brings you a dynamic and unforgettable experience that enthusiasts all over the world claim\, ‘feels like a live concert with the King himself’.  Trust us\, you won’t be able to resist Ben’s looks\, charm and charisma! \nHaving witnessed sellout performances on the same Vegas stage as Elvis\, to London’s West End\, don’t miss out on your chance to see ‘This is Elvis‘ — book now for an unforgettable night that will have you ‘all shook up’!
URL:https://www.takingcareofelvis.co.uk/event/ben-portsmouth-this-is-elvis-2024-tour-york-barbican-york/
LOCATION:York Barbican\, York\, Paragon St\, York\, North Yorkshire\, YO10 4AH
ATTACH;FMTTYPE=image/jpeg:https://www.takingcareofelvis.co.uk/wp-content/uploads/2023/03/ben-portsmouth-this-is-elvis-2024-tour-banner.jpg
END:VEVENT
BEGIN:VEVENT
DTSTART;TZID=UTC:20251017T193000
DTEND;TZID=UTC:20251017T220000
DTSTAMP:20260419T200949
CREATED:20241105T203644Z
LAST-MODIFIED:20250624T100714Z
UID:2478-1760729400-1760738400@www.takingcareofelvis.co.uk
SUMMARY:Ben Portsmouth: This is Elvis 2025 Tour - Dudley Town Hall\, Dudley
DESCRIPTION:Ben Portsmouth brings the ULTIMATE Elvis experience to Dudley Town Hall! \nBen is not just a tribute artist; he is the real deal\, being regarded as the closest living performer to the legendary Elvis Presley.  With global success in over 20 countries\, Ben Portsmouth brings energy\, passion and authenticity in a way that no one else can deliver. \nMaking history in 2012\, Ben broke records becoming the first European to be crowned by Elvis Presley Enterprises as the ‘Worldwide Ultimate Elvis Tribute Artist’ in Memphis\, which swiftly followed with an invite to headline a special Elvis week on the Late Show with David Letterman. \n‘This is Elvis’ offers an immersive journey through Presley’s most iconic eras with greatest hits from his early rockabilly roots to the dazzling Vegas years.  Whether you’re a lifelong Elvis fan or just discovering his music\, this is a show for all generations! \nBen and the Taking Care of Elvis Band brings you a dynamic and unforgettable experience that enthusiasts all over the world claim\, ‘feels like a live concert with the King himself’.  Trust us\, you won’t be able to resist Ben’s looks\, charm and charisma! \nHaving witnessed sellout performances on the same Vegas stage as Elvis\, to London’s West End\, don’t miss out on your chance to see ‘This is Elvis‘ — book now for an unforgettable night that will have you ‘all shook up’!
URL:https://www.takingcareofelvis.co.uk/event/ben-portsmouth-this-is-elvis-2024-tour-dudley-town-hall-dudley/
LOCATION:Dudley Town Hall\, Dudley\, St James's Rd\, Dudley\, Birmingham\, DY1 1HP\, United Kingdom
ATTACH;FMTTYPE=image/jpeg:https://www.takingcareofelvis.co.uk/wp-content/uploads/2023/03/ben-portsmouth-this-is-elvis-2024-tour-banner.jpg
END:VEVENT
BEGIN:VEVENT
DTSTART;TZID=UTC:20251023T193000
DTEND;TZID=UTC:20251023T220000
DTSTAMP:20260419T200949
CREATED:20241105T204154Z
LAST-MODIFIED:20250624T100750Z
UID:2484-1761247800-1761256800@www.takingcareofelvis.co.uk
SUMMARY:Ben Portsmouth: This is Elvis 2025 Tour - Alive Corn Exchange\, Kings Lynn
DESCRIPTION:Ben Portsmouth brings the ULTIMATE Elvis experience to the Alive Corn Exchange! \nBen is not just a tribute artist; he is the real deal\, being regarded as the closest living performer to the legendary Elvis Presley.  With global success in over 20 countries\, Ben Portsmouth brings energy\, passion and authenticity in a way that no one else can deliver. \nMaking history in 2012\, Ben broke records becoming the first European to be crowned by Elvis Presley Enterprises as the ‘Worldwide Ultimate Elvis Tribute Artist’ in Memphis\, which swiftly followed with an invite to headline a special Elvis week on the Late Show with David Letterman. \n‘This is Elvis’ offers an immersive journey through Presley’s most iconic eras with greatest hits from his early rockabilly roots to the dazzling Vegas years.  Whether you’re a lifelong Elvis fan or just discovering his music\, this is a show for all generations! \nBen and the Taking Care of Elvis Band brings you a dynamic and unforgettable experience that enthusiasts all over the world claim\, ‘feels like a live concert with the King himself’.  Trust us\, you won’t be able to resist Ben’s looks\, charm and charisma! \nHaving witnessed sellout performances on the same Vegas stage as Elvis\, to London’s West End\, don’t miss out on your chance to see ‘This is Elvis‘ — book now for an unforgettable night that will have you ‘all shook up’!
URL:https://www.takingcareofelvis.co.uk/event/ben-portsmouth-this-is-elvis-2024-tour-alive-corn-exchange-kings-lynn/
LOCATION:Alive Corn Exchange\, Kings Lynn\, Tuesday Market Pl\, King's Lynn\, PE30 1JW\, United Kingdom
ATTACH;FMTTYPE=image/jpeg:https://www.takingcareofelvis.co.uk/wp-content/uploads/2023/03/ben-portsmouth-this-is-elvis-2024-tour-banner.jpg
END:VEVENT
BEGIN:VEVENT
DTSTART;TZID=UTC:20251024T193000
DTEND;TZID=UTC:20251024T220000
DTSTAMP:20260419T200949
CREATED:20241014T101514Z
LAST-MODIFIED:20250624T100817Z
UID:2464-1761334200-1761343200@www.takingcareofelvis.co.uk
SUMMARY:Ben Portsmouth: This is Elvis 2025 Tour - The Old Savoy home of the Deco Theatre\, Northampton
DESCRIPTION:Ben Portsmouth brings the ULTIMATE Elvis experience to the Old Savoy home of the DECO Theatre! \nBen is not just a tribute artist; he is the real deal\, being regarded as the closest living performer to the legendary Elvis Presley.  With global success in over 20 countries\, Ben Portsmouth brings energy\, passion and authenticity in a way that no one else can deliver. \nMaking history in 2012\, Ben broke records becoming the first European to be crowned by Elvis Presley Enterprises as the ‘Worldwide Ultimate Elvis Tribute Artist’ in Memphis\, which swiftly followed with an invite to headline a special Elvis week on the Late Show with David Letterman. \n‘This is Elvis’ offers an immersive journey through Presley’s most iconic eras with greatest hits from his early rockabilly roots to the dazzling Vegas years.  Whether you’re a lifelong Elvis fan or just discovering his music\, this is a show for all generations! \nBen and the Taking Care of Elvis Band brings you a dynamic and unforgettable experience that enthusiasts all over the world claim\, ‘feels like a live concert with the King himself’.  Trust us\, you won’t be able to resist Ben’s looks\, charm and charisma! \nHaving witnessed sellout performances on the same Vegas stage as Elvis\, to London’s West End\, don’t miss out on your chance to see ‘This is Elvis‘ — book now for an unforgettable night that will have you ‘all shook up’!
URL:https://www.takingcareofelvis.co.uk/event/ben-portsmouth-this-is-elvis-2024-tour-the-old-savoy-home-of-the-deco-theatre-northampton/
LOCATION:The Old Savoy home of the Deco Theatre\, Northampton\, Abington Square\, Northampton\, NN1 4AE\, United Kingdom
ATTACH;FMTTYPE=image/jpeg:https://www.takingcareofelvis.co.uk/wp-content/uploads/2023/03/ben-portsmouth-this-is-elvis-2024-tour-banner.jpg
END:VEVENT
END:VCALENDAR