BEGIN:VCALENDAR
VERSION:2.0
PRODID:-//Taking Care of Elvis - ECPv6.3.5//NONSGML v1.0//EN
CALSCALE:GREGORIAN
METHOD:PUBLISH
X-ORIGINAL-URL:https://www.takingcareofelvis.co.uk
X-WR-CALDESC:Events for Taking Care of Elvis
REFRESH-INTERVAL;VALUE=DURATION:PT1H
X-Robots-Tag:noindex
X-PUBLISHED-TTL:PT1H
BEGIN:VTIMEZONE
TZID:UTC
BEGIN:STANDARD
TZOFFSETFROM:+0000
TZOFFSETTO:+0000
TZNAME:UTC
DTSTART:20250101T000000
END:STANDARD
END:VTIMEZONE
BEGIN:VEVENT
DTSTART;TZID=UTC:20250904T193000
DTEND;TZID=UTC:20250904T220000
DTSTAMP:20260419T215120
CREATED:20240925T103512Z
LAST-MODIFIED:20250624T100003Z
UID:2442-1757014200-1757023200@www.takingcareofelvis.co.uk
SUMMARY:Ben Portsmouth: This is Elvis 2025 Tour - The Grove Theatre\, Dunstable
DESCRIPTION:Ben Portsmouth brings the ULTIMATE Elvis experience to The Grove Theatre! \nBen is not just a tribute artist; he is the real deal\, being regarded as the closest living performer to the legendary Elvis Presley.  With global success in over 20 countries\, Ben Portsmouth brings energy\, passion and authenticity in a way that no one else can deliver. \nMaking history in 2012\, Ben broke records becoming the first European to be crowned by Elvis Presley Enterprises as the ‘Worldwide Ultimate Elvis Tribute Artist’ in Memphis\, which swiftly followed with an invite to headline a special Elvis week on the Late Show with David Letterman. \n‘This is Elvis’ offers an immersive journey through Presley’s most iconic eras with greatest hits from his early rockabilly roots to the dazzling Vegas years.  Whether you’re a lifelong Elvis fan or just discovering his music\, this is a show for all generations! \nBen and the Taking Care of Elvis Band brings you a dynamic and unforgettable experience that enthusiasts all over the world claim\, ‘feels like a live concert with the King himself’.  Trust us\, you won’t be able to resist Ben’s looks\, charm and charisma! \nHaving witnessed sellout performances on the same Vegas stage as Elvis\, to London’s West End\, don’t miss out on your chance to see ‘This is Elvis‘ — book now for an unforgettable night that will have you ‘all shook up’!
URL:https://www.takingcareofelvis.co.uk/event/ben-portsmouth-this-is-elvis-2024-tour-the-grove-theatre-dunstable/
LOCATION:Grove Theatre\, Dunstable\, Court Drive\, Dunstable\, Bedfordshire\, LU5 4GP\, United Kingdom
ATTACH;FMTTYPE=image/jpeg:https://www.takingcareofelvis.co.uk/wp-content/uploads/2023/03/ben-portsmouth-this-is-elvis-2024-tour-banner.jpg
END:VEVENT
BEGIN:VEVENT
DTSTART;TZID=UTC:20250905T193000
DTEND;TZID=UTC:20250905T220000
DTSTAMP:20260419T215120
CREATED:20240925T103920Z
LAST-MODIFIED:20250624T095942Z
UID:2444-1757100600-1757109600@www.takingcareofelvis.co.uk
SUMMARY:Ben Portsmouth: This is Elvis 2025 Tour - Westlands Entertainment Centre\, Yeovil
DESCRIPTION:Ben Portsmouth brings the ULTIMATE Elvis experience to Westlands! \nBen is not just a tribute artist; he is the real deal\, being regarded as the closest living performer to the legendary Elvis Presley.  With global success in over 20 countries\, Ben Portsmouth brings energy\, passion and authenticity in a way that no one else can deliver. \nMaking history in 2012\, Ben broke records becoming the first European to be crowned by Elvis Presley Enterprises as the ‘Worldwide Ultimate Elvis Tribute Artist’ in Memphis\, which swiftly followed with an invite to headline a special Elvis week on the Late Show with David Letterman. \n‘This is Elvis’ offers an immersive journey through Presley’s most iconic eras with greatest hits from his early rockabilly roots to the dazzling Vegas years.  Whether you’re a lifelong Elvis fan or just discovering his music\, this is a show for all generations! \nBen and the Taking Care of Elvis Band brings you a dynamic and unforgettable experience that enthusiasts all over the world claim\, ‘feels like a live concert with the King himself’.  Trust us\, you won’t be able to resist Ben’s looks\, charm and charisma! \nHaving witnessed sellout performances on the same Vegas stage as Elvis\, to London’s West End\, don’t miss out on your chance to see ‘This is Elvis‘ — book now for an unforgettable night that will have you ‘all shook up’!
URL:https://www.takingcareofelvis.co.uk/event/ben-portsmouth-this-is-elvis-2024-tour-westlands-entertainment-centre-yeovil-2/
LOCATION:Westlands Ent Centre\, Yeovil\, Westbourne Cl\, Yeovil\, Somerset\, BA20 2DD
ATTACH;FMTTYPE=image/jpeg:https://www.takingcareofelvis.co.uk/wp-content/uploads/2023/03/ben-portsmouth-this-is-elvis-2024-tour-banner.jpg
END:VEVENT
BEGIN:VEVENT
DTSTART;TZID=UTC:20250906T193000
DTEND;TZID=UTC:20250906T220000
DTSTAMP:20260419T215120
CREATED:20240904T151547Z
LAST-MODIFIED:20250624T095916Z
UID:2430-1757187000-1757196000@www.takingcareofelvis.co.uk
SUMMARY:Ben Portsmouth: This is Elvis 2025 Tour - Weymouth Pavilion
DESCRIPTION:Ben Portsmouth brings the ULTIMATE Elvis experience to Weymouth Pavilion! \nBen is not just a tribute artist; he is the real deal\, being regarded as the closest living performer to the legendary Elvis Presley.  With global success in over 20 countries\, Ben Portsmouth brings energy\, passion and authenticity in a way that no one else can deliver. \nMaking history in 2012\, Ben broke records becoming the first European to be crowned by Elvis Presley Enterprises as the ‘Worldwide Ultimate Elvis Tribute Artist’ in Memphis\, which swiftly followed with an invite to headline a special Elvis week on the Late Show with David Letterman. \n‘This is Elvis’ offers an immersive journey through Presley’s most iconic eras with greatest hits from his early rockabilly roots to the dazzling Vegas years.  Whether you’re a lifelong Elvis fan or just discovering his music\, this is a show for all generations! \nBen and the Taking Care of Elvis Band brings you a dynamic and unforgettable experience that enthusiasts all over the world claim\, ‘feels like a live concert with the King himself’.  Trust us\, you won’t be able to resist Ben’s looks\, charm and charisma! \nHaving witnessed sellout performances on the same Vegas stage as Elvis\, to London’s West End\, don’t miss out on your chance to see ‘This is Elvis‘ — book now for an unforgettable night that will have you ‘all shook up’!
URL:https://www.takingcareofelvis.co.uk/event/ben-portsmouth-this-is-elvis-2024-tour-weymouth-pavilion-2/
LOCATION:Weymouth Pavillion\, Weymouth\, The Esplanade\, Weymouth\, Dorset\, DT4 8ED
ATTACH;FMTTYPE=image/jpeg:https://www.takingcareofelvis.co.uk/wp-content/uploads/2023/03/ben-portsmouth-this-is-elvis-2024-tour-banner.jpg
END:VEVENT
BEGIN:VEVENT
DTSTART;TZID=UTC:20250907T193000
DTEND;TZID=UTC:20250907T220000
DTSTAMP:20260419T215120
CREATED:20250121T101339Z
LAST-MODIFIED:20250624T095852Z
UID:2512-1757273400-1757282400@www.takingcareofelvis.co.uk
SUMMARY:Ben Portsmouth: This is Elvis 2025 Tour - Cornwall Playhouse at the Hall for Cornwall\, Truro
DESCRIPTION:Ben Portsmouth brings the ULTIMATE Elvis experience to the Cornwall Playhouse! \nBen is not just a tribute artist; he is the real deal\, being regarded as the closest living performer to the legendary Elvis Presley.  With global success in over 20 countries\, Ben Portsmouth brings energy\, passion and authenticity in a way that no one else can deliver. \nMaking history in 2012\, Ben broke records becoming the first European to be crowned by Elvis Presley Enterprises as the ‘Worldwide Ultimate Elvis Tribute Artist’ in Memphis\, which swiftly followed with an invite to headline a special Elvis week on the Late Show with David Letterman. \n‘This is Elvis’ offers an immersive journey through Presley’s most iconic eras with greatest hits from his early rockabilly roots to the dazzling Vegas years.  Whether you’re a lifelong Elvis fan or just discovering his music\, this is a show for all generations! \nBen and the Taking Care of Elvis Band brings you a dynamic and unforgettable experience that enthusiasts all over the world claim\, ‘feels like a live concert with the King himself’.  Trust us\, you won’t be able to resist Ben’s looks\, charm and charisma! \nHaving witnessed sellout performances on the same Vegas stage as Elvis\, to London’s West End\, don’t miss out on your chance to see ‘This is Elvis‘ — book now for an unforgettable night that will have you ‘all shook up’!
URL:https://www.takingcareofelvis.co.uk/event/ben-portsmouth-this-is-elvis-2024-tour-hall-for-cornwall-truro-2/
LOCATION:Hall for Cornwall\, Truro\, Back Quay\, Truro\, Cornwall\, TR1 2LL
ATTACH;FMTTYPE=image/jpeg:https://www.takingcareofelvis.co.uk/wp-content/uploads/2023/03/ben-portsmouth-this-is-elvis-2024-tour-banner.jpg
END:VEVENT
BEGIN:VEVENT
DTSTART;TZID=UTC:20250911T193000
DTEND;TZID=UTC:20250911T220000
DTSTAMP:20260419T215120
CREATED:20240523T082509Z
LAST-MODIFIED:20250903T091928Z
UID:2403-1757619000-1757628000@www.takingcareofelvis.co.uk
SUMMARY:Ben Portsmouth: This is Elvis 2025 Tour - O2 City Hall\, Newcastle
DESCRIPTION:Ben Portsmouth brings the ULTIMATE Elvis experience to the O2 City Hall! \nBen is not just a tribute artist; he is the real deal\, being regarded as the closest living performer to the legendary Elvis Presley.  With global success in over 20 countries\, Ben Portsmouth brings energy\, passion and authenticity in a way that no one else can deliver. \nMaking history in 2012\, Ben broke records becoming the first European to be crowned by Elvis Presley Enterprises as the ‘Worldwide Ultimate Elvis Tribute Artist’ in Memphis\, which swiftly followed with an invite to headline a special Elvis week on the Late Show with David Letterman. \n‘This is Elvis’ offers an immersive journey through Presley’s most iconic eras with greatest hits from his early rockabilly roots to the dazzling Vegas years.  Whether you’re a lifelong Elvis fan or just discovering his music\, this is a show for all generations! \nBen and the Taking Care of Elvis Band brings you a dynamic and unforgettable experience that enthusiasts all over the world claim\, ‘feels like a live concert with the King himself’.  Trust us\, you won’t be able to resist Ben’s looks\, charm and charisma! \nHaving witnessed sellout performances on the same Vegas stage as Elvis\, to London’s West End\, don’t miss out on your chance to see ‘This is Elvis‘ — book now for an unforgettable night that will have you ‘all shook up’!
URL:https://www.takingcareofelvis.co.uk/event/ben-portsmouth-this-is-elvis-2024-tour-teatro-o2-city-hall-newcastle/
LOCATION:O2 City Hall\, Newcastle\, Northumberland Rd\, Newcastle upon Tyne\, Tyne and Wear\, NE1 8SF
ATTACH;FMTTYPE=image/jpeg:https://www.takingcareofelvis.co.uk/wp-content/uploads/2023/03/ben-portsmouth-this-is-elvis-2024-tour-banner.jpg
END:VEVENT
BEGIN:VEVENT
DTSTART;TZID=UTC:20250913T200000
DTEND;TZID=UTC:20250913T220000
DTSTAMP:20260419T215120
CREATED:20241010T171307Z
LAST-MODIFIED:20250624T095748Z
UID:2456-1757793600-1757800800@www.takingcareofelvis.co.uk
SUMMARY:Ben Portsmouth: This is Elvis 2025 Tour - Villa Marina\, Isle of Man
DESCRIPTION:Ben Portsmouth brings the ULTIMATE Elvis experience to the Villa Marina! \nBen is not just a tribute artist; he is the real deal\, being regarded as the closest living performer to the legendary Elvis Presley.  With global success in over 20 countries\, Ben Portsmouth brings energy\, passion and authenticity in a way that no one else can deliver. \nMaking history in 2012\, Ben broke records becoming the first European to be crowned by Elvis Presley Enterprises as the ‘Worldwide Ultimate Elvis Tribute Artist’ in Memphis\, which swiftly followed with an invite to headline a special Elvis week on the Late Show with David Letterman. \n‘This is Elvis’ offers an immersive journey through Presley’s most iconic eras with greatest hits from his early rockabilly roots to the dazzling Vegas years.  Whether you’re a lifelong Elvis fan or just discovering his music\, this is a show for all generations! \nBen and the Taking Care of Elvis Band brings you a dynamic and unforgettable experience that enthusiasts all over the world claim\, ‘feels like a live concert with the King himself’.  Trust us\, you won’t be able to resist Ben’s looks\, charm and charisma! \nHaving witnessed sellout performances on the same Vegas stage as Elvis\, to London’s West End\, don’t miss out on your chance to see ‘This is Elvis‘ — book now for an unforgettable night that will have you ‘all shook up’!
URL:https://www.takingcareofelvis.co.uk/event/ben-portsmouth-this-is-elvis-2024-tour-villa-gaiety-royal-hall-isle-of-man/
LOCATION:Villa Gaiety Royal Hall\, Villa Marina\, Isle of Man\, Harris Promenade\, Douglas\, Isle of Man\, IM1 2HP\, United Kingdom
ATTACH;FMTTYPE=image/jpeg:https://www.takingcareofelvis.co.uk/wp-content/uploads/2023/03/ben-portsmouth-this-is-elvis-2024-tour-banner.jpg
END:VEVENT
BEGIN:VEVENT
DTSTART;TZID=UTC:20250920T193000
DTEND;TZID=UTC:20250920T220000
DTSTAMP:20260419T215120
CREATED:20240904T151716Z
LAST-MODIFIED:20250624T095648Z
UID:2432-1758396600-1758405600@www.takingcareofelvis.co.uk
SUMMARY:Ben Portsmouth: This is Elvis 2025 Tour - Cliffs Pavilion\, Southend-on-Sea
DESCRIPTION:Ben Portsmouth brings the ULTIMATE Elvis experience to the Cliffs Pavilion! \nBen is not just a tribute artist; he is the real deal\, being regarded as the closest living performer to the legendary Elvis Presley.  With global success in over 20 countries\, Ben Portsmouth brings energy\, passion and authenticity in a way that no one else can deliver. \nMaking history in 2012\, Ben broke records becoming the first European to be crowned by Elvis Presley Enterprises as the ‘Worldwide Ultimate Elvis Tribute Artist’ in Memphis\, which swiftly followed with an invite to headline a special Elvis week on the Late Show with David Letterman. \n‘This is Elvis’ offers an immersive journey through Presley’s most iconic eras with greatest hits from his early rockabilly roots to the dazzling Vegas years.  Whether you’re a lifelong Elvis fan or just discovering his music\, this is a show for all generations! \nBen and the Taking Care of Elvis Band brings you a dynamic and unforgettable experience that enthusiasts all over the world claim\, ‘feels like a live concert with the King himself’.  Trust us\, you won’t be able to resist Ben’s looks\, charm and charisma! \nHaving witnessed sellout performances on the same Vegas stage as Elvis\, to London’s West End\, don’t miss out on your chance to see ‘This is Elvis‘ — book now for an unforgettable night that will have you ‘all shook up’!
URL:https://www.takingcareofelvis.co.uk/event/ben-portsmouth-this-is-elvis-2024-tour-cliffs-pavilion-southend-on-sea-2/
LOCATION:Cliffs Pavilion\, Southend\, Station Rd\, Westcliff-on-Sea\, Southend-on-Sea\, Westcliff-on-Sea\, SS0 7RA\, United Kingdom
ATTACH;FMTTYPE=image/jpeg:https://www.takingcareofelvis.co.uk/wp-content/uploads/2023/03/ben-portsmouth-this-is-elvis-2024-tour-banner.jpg
END:VEVENT
BEGIN:VEVENT
DTSTART;TZID=UTC:20250921T193000
DTEND;TZID=UTC:20250921T220000
DTSTAMP:20260419T215120
CREATED:20241122T093338Z
LAST-MODIFIED:20250903T092044Z
UID:2495-1758483000-1758492000@www.takingcareofelvis.co.uk
SUMMARY:Ben Portsmouth: This is Elvis 2025 Tour - Wycombe Swan\, High Wycombe
DESCRIPTION:Ben Portsmouth brings the ULTIMATE Elvis experience to Wycombe Swan! \nBen is not just a tribute artist; he is the real deal\, being regarded as the closest living performer to the legendary Elvis Presley.  With global success in over 20 countries\, Ben Portsmouth brings energy\, passion and authenticity in a way that no one else can deliver. \nMaking history in 2012\, Ben broke records becoming the first European to be crowned by Elvis Presley Enterprises as the ‘Worldwide Ultimate Elvis Tribute Artist’ in Memphis\, which swiftly followed with an invite to headline a special Elvis week on the Late Show with David Letterman. \n‘This is Elvis’ offers an immersive journey through Presley’s most iconic eras with greatest hits from his early rockabilly roots to the dazzling Vegas years.  Whether you’re a lifelong Elvis fan or just discovering his music\, this is a show for all generations! \nBen and the Taking Care of Elvis Band brings you a dynamic and unforgettable experience that enthusiasts all over the world claim\, ‘feels like a live concert with the King himself’.  Trust us\, you won’t be able to resist Ben’s looks\, charm and charisma! \nHaving witnessed sellout performances on the same Vegas stage as Elvis\, to London’s West End\, don’t miss out on your chance to see ‘This is Elvis‘ — book now for an unforgettable night that will have you ‘all shook up’!
URL:https://www.takingcareofelvis.co.uk/event/ben-portsmouth-this-is-elvis-2024-tour-wycombe-swan-high-wycombe-2/
LOCATION:Wycombe Swan\, High Wycombe\, St Mary St\, High Wycombe\, Buckinghamshire\, HP11 2XE\, United Kingdom
ATTACH;FMTTYPE=image/jpeg:https://www.takingcareofelvis.co.uk/wp-content/uploads/2023/03/ben-portsmouth-this-is-elvis-2024-tour-banner.jpg
END:VEVENT
BEGIN:VEVENT
DTSTART;TZID=UTC:20250926T193000
DTEND;TZID=UTC:20250926T220000
DTSTAMP:20260419T215120
CREATED:20241220T132220Z
LAST-MODIFIED:20250226T124915Z
UID:2508-1758915000-1758924000@www.takingcareofelvis.co.uk
SUMMARY:Ben Portsmouth: This is Elvis 2025 Tour - Blackburn Cathedral
DESCRIPTION:Internationally renowned as one of the best Elvis Tribute Artists in the world today\, Ben Portsmouth\, together with his Taking Care of Elvis Band\, will bring his unique style and charisma to the stage. Ben will show audiences exactly why he was crowned the Ultimate Elvis Tribute Artist by Elvis Presley Enterprises in 2012 and why he is regarded as the best in the business. \nHis spectacular show\, The King is Back\, takes audiences through the various eras of Elvis’s career\, culminating in the iconic Vegas years. \nYou will see for yourself why Ben left David Letterman at a loss for words exclaiming “Oh my God\, oh my God!” when Ben headlined Elvis week on the Late Show in New York in February of 2013.
URL:https://www.takingcareofelvis.co.uk/event/ben-portsmouth-this-is-elvis-2024-tour-blackburn-cathedral/
LOCATION:Blackburn Cathedral\, Cathedral Close\, Blackburn\, Lancashire\, BB1 5AA\, United Kingdom
ATTACH;FMTTYPE=image/jpeg:https://www.takingcareofelvis.co.uk/wp-content/uploads/2023/03/ben-portsmouth-this-is-elvis-2024-tour-banner.jpg
END:VEVENT
BEGIN:VEVENT
DTSTART;TZID=UTC:20250927T193000
DTEND;TZID=UTC:20250927T220000
DTSTAMP:20260419T215120
CREATED:20241105T203813Z
LAST-MODIFIED:20250627T075111Z
UID:2480-1759001400-1759010400@www.takingcareofelvis.co.uk
SUMMARY:Ben Portsmouth: This is Elvis 2025 Tour - Alhambra Theatre\, Dunfermline
DESCRIPTION:Ben Portsmouth brings the ULTIMATE Elvis experience to the Alhambra Theatre! \nBen is not just a tribute artist; he is the real deal\, being regarded as the closest living performer to the legendary Elvis Presley.  With global success in over 20 countries\, Ben Portsmouth brings energy\, passion and authenticity in a way that no one else can deliver. \nMaking history in 2012\, Ben broke records becoming the first European to be crowned by Elvis Presley Enterprises as the ‘Worldwide Ultimate Elvis Tribute Artist’ in Memphis\, which swiftly followed with an invite to headline a special Elvis week on the Late Show with David Letterman. \n‘This is Elvis’ offers an immersive journey through Presley’s most iconic eras with greatest hits from his early rockabilly roots to the dazzling Vegas years.  Whether you’re a lifelong Elvis fan or just discovering his music\, this is a show for all generations! \nBen and the Taking Care of Elvis Band brings you a dynamic and unforgettable experience that enthusiasts all over the world claim\, ‘feels like a live concert with the King himself’.  Trust us\, you won’t be able to resist Ben’s looks\, charm and charisma! \nHaving witnessed sellout performances on the same Vegas stage as Elvis\, to London’s West End\, don’t miss out on your chance to see ‘This is Elvis‘ — book now for an unforgettable night that will have you ‘all shook up’!
URL:https://www.takingcareofelvis.co.uk/event/ben-portsmouth-this-is-elvis-2024-tour-alhambra-theatre-dunfermline/
LOCATION:Alhambra Theatre\, Dunfermline\, 33-35 Canmore St\, Dunfermline\, Fife\, KY12 7NX
ATTACH;FMTTYPE=image/jpeg:https://www.takingcareofelvis.co.uk/wp-content/uploads/2023/03/ben-portsmouth-this-is-elvis-2024-tour-banner.jpg
END:VEVENT
END:VCALENDAR