BEGIN:VCALENDAR
VERSION:2.0
PRODID:-//Taking Care of Elvis - ECPv6.3.5//NONSGML v1.0//EN
CALSCALE:GREGORIAN
METHOD:PUBLISH
X-WR-CALNAME:Taking Care of Elvis
X-ORIGINAL-URL:https://www.takingcareofelvis.co.uk
X-WR-CALDESC:Events for Taking Care of Elvis
REFRESH-INTERVAL;VALUE=DURATION:PT1H
X-Robots-Tag:noindex
X-PUBLISHED-TTL:PT1H
BEGIN:VTIMEZONE
TZID:UTC
BEGIN:STANDARD
TZOFFSETFROM:+0000
TZOFFSETTO:+0000
TZNAME:UTC
DTSTART:20250101T000000
END:STANDARD
END:VTIMEZONE
BEGIN:VEVENT
DTSTART;TZID=UTC:20250702T193000
DTEND;TZID=UTC:20250702T220000
DTSTAMP:20260420T005914
CREATED:20250226T125329Z
LAST-MODIFIED:20250226T125329Z
UID:2583-1751484600-1751493600@www.takingcareofelvis.co.uk
SUMMARY:Ben Portsmouth: This is Elvis 2025 Tour - Tweed Heads\, Twin Towns\, Australia
DESCRIPTION:Internationally renowned as one of the best Elvis Tribute Artists in the world today\, Ben Portsmouth\, together with his Taking Care of Elvis Band\, will bring his unique style and charisma to the stage. Ben will show audiences exactly why he was crowned the Ultimate Elvis Tribute Artist by Elvis Presley Enterprises in 2012 and why he is regarded as the best in the business. \nHis spectacular show\, The King is Back\, takes audiences through the various eras of Elvis’s career\, culminating in the iconic Vegas years. \nYou will see for yourself why Ben left David Letterman at a loss for words exclaiming “Oh my God\, oh my God!” when Ben headlined Elvis week on the Late Show in New York in February of 2013.
URL:https://www.takingcareofelvis.co.uk/event/ben-portsmouth-this-is-elvis-2025-tour-tweed-heads-twin-towns-australia/
LOCATION:Twin Towns\, Tweed Heads\, 2 Wharf St\, Tweed Heads\, NSW\, 2485\, Australia
ATTACH;FMTTYPE=image/jpeg:https://www.takingcareofelvis.co.uk/wp-content/uploads/2023/03/ben-portsmouth-this-is-elvis-2024-tour-banner.jpg
END:VEVENT
BEGIN:VEVENT
DTSTART;TZID=UTC:20250705T193000
DTEND;TZID=UTC:20250705T220000
DTSTAMP:20260420T005914
CREATED:20250226T125500Z
LAST-MODIFIED:20250226T125500Z
UID:2585-1751743800-1751752800@www.takingcareofelvis.co.uk
SUMMARY:Ben Portsmouth: This is Elvis 2025 Tour - Princess Theatre\, Brisbane\, Australia
DESCRIPTION:Internationally renowned as one of the best Elvis Tribute Artists in the world today\, Ben Portsmouth\, together with his Taking Care of Elvis Band\, will bring his unique style and charisma to the stage. Ben will show audiences exactly why he was crowned the Ultimate Elvis Tribute Artist by Elvis Presley Enterprises in 2012 and why he is regarded as the best in the business. \nHis spectacular show\, The King is Back\, takes audiences through the various eras of Elvis’s career\, culminating in the iconic Vegas years. \nYou will see for yourself why Ben left David Letterman at a loss for words exclaiming “Oh my God\, oh my God!” when Ben headlined Elvis week on the Late Show in New York in February of 2013.
URL:https://www.takingcareofelvis.co.uk/event/ben-portsmouth-this-is-elvis-2025-tour-princess-theatre-brisbane-australia/
LOCATION:Princess Theatre\, Brisbane\, Woolloongabba\, Queensland\, Australia
ATTACH;FMTTYPE=image/jpeg:https://www.takingcareofelvis.co.uk/wp-content/uploads/2023/03/ben-portsmouth-this-is-elvis-2024-tour-banner.jpg
END:VEVENT
BEGIN:VEVENT
DTSTART;TZID=UTC:20250709T193000
DTEND;TZID=UTC:20250709T220000
DTSTAMP:20260420T005914
CREATED:20250226T125801Z
LAST-MODIFIED:20250226T125801Z
UID:2590-1752089400-1752098400@www.takingcareofelvis.co.uk
SUMMARY:Ben Portsmouth: This is Elvis 2025 Tour - Palms at Crown\, Melbourne\, Australia
DESCRIPTION:Internationally renowned as one of the best Elvis Tribute Artists in the world today\, Ben Portsmouth\, together with his Taking Care of Elvis Band\, will bring his unique style and charisma to the stage. Ben will show audiences exactly why he was crowned the Ultimate Elvis Tribute Artist by Elvis Presley Enterprises in 2012 and why he is regarded as the best in the business. \nHis spectacular show\, The King is Back\, takes audiences through the various eras of Elvis’s career\, culminating in the iconic Vegas years. \nYou will see for yourself why Ben left David Letterman at a loss for words exclaiming “Oh my God\, oh my God!” when Ben headlined Elvis week on the Late Show in New York in February of 2013.
URL:https://www.takingcareofelvis.co.uk/event/ben-portsmouth-this-is-elvis-2025-tour-palms-at-crown-melbourne-australia-2/
LOCATION:Palms at Crown\, Melbourne\, Level 3\, Crown Melbourne\, 8 Whiteman St\,\, Southbank\, VIC\, 3006\, Australia
ATTACH;FMTTYPE=image/jpeg:https://www.takingcareofelvis.co.uk/wp-content/uploads/2023/03/ben-portsmouth-this-is-elvis-2024-tour-banner.jpg
END:VEVENT
BEGIN:VEVENT
DTSTART;TZID=UTC:20250711T193000
DTEND;TZID=UTC:20250711T220000
DTSTAMP:20260420T005914
CREATED:20250226T125642Z
LAST-MODIFIED:20250314T120057Z
UID:2588-1752262200-1752271200@www.takingcareofelvis.co.uk
SUMMARY:Ben Portsmouth: This is Elvis 2025 Tour - Palms at Crown\, Melbourne\, Australia
DESCRIPTION:Internationally renowned as one of the best Elvis Tribute Artists in the world today\, Ben Portsmouth\, together with his Taking Care of Elvis Band\, will bring his unique style and charisma to the stage. Ben will show audiences exactly why he was crowned the Ultimate Elvis Tribute Artist by Elvis Presley Enterprises in 2012 and why he is regarded as the best in the business. \nHis spectacular show\, The King is Back\, takes audiences through the various eras of Elvis’s career\, culminating in the iconic Vegas years. \nYou will see for yourself why Ben left David Letterman at a loss for words exclaiming “Oh my God\, oh my God!” when Ben headlined Elvis week on the Late Show in New York in February of 2013.
URL:https://www.takingcareofelvis.co.uk/event/ben-portsmouth-this-is-elvis-2025-tour-palms-at-crown-melbourne-australia/
LOCATION:Palms at Crown\, Melbourne\, Level 3\, Crown Melbourne\, 8 Whiteman St\,\, Southbank\, VIC\, 3006\, Australia
ATTACH;FMTTYPE=image/jpeg:https://www.takingcareofelvis.co.uk/wp-content/uploads/2023/03/ben-portsmouth-this-is-elvis-2024-tour-banner.jpg
END:VEVENT
BEGIN:VEVENT
DTSTART;TZID=UTC:20250712T193000
DTEND;TZID=UTC:20250712T220000
DTSTAMP:20260420T005914
CREATED:20250314T120227Z
LAST-MODIFIED:20250314T120227Z
UID:2630-1752348600-1752357600@www.takingcareofelvis.co.uk
SUMMARY:Ben Portsmouth: This is Elvis 2025 Tour - Palms at Crown\, Melbourne\, Australia
DESCRIPTION:Internationally renowned as one of the best Elvis Tribute Artists in the world today\, Ben Portsmouth\, together with his Taking Care of Elvis Band\, will bring his unique style and charisma to the stage. Ben will show audiences exactly why he was crowned the Ultimate Elvis Tribute Artist by Elvis Presley Enterprises in 2012 and why he is regarded as the best in the business. \nHis spectacular show\, The King is Back\, takes audiences through the various eras of Elvis’s career\, culminating in the iconic Vegas years. \nYou will see for yourself why Ben left David Letterman at a loss for words exclaiming “Oh my God\, oh my God!” when Ben headlined Elvis week on the Late Show in New York in February of 2013.
URL:https://www.takingcareofelvis.co.uk/event/ben-portsmouth-this-is-elvis-2025-tour-palms-at-crown-melbourne-australia-3/
LOCATION:Palms at Crown\, Melbourne\, Level 3\, Crown Melbourne\, 8 Whiteman St\,\, Southbank\, VIC\, 3006\, Australia
ATTACH;FMTTYPE=image/jpeg:https://www.takingcareofelvis.co.uk/wp-content/uploads/2023/03/ben-portsmouth-this-is-elvis-2024-tour-banner.jpg
END:VEVENT
END:VCALENDAR