BEGIN:VCALENDAR
VERSION:2.0
PRODID:-//Taking Care of Elvis - ECPv6.3.5//NONSGML v1.0//EN
CALSCALE:GREGORIAN
METHOD:PUBLISH
X-ORIGINAL-URL:https://www.takingcareofelvis.co.uk
X-WR-CALDESC:Events for Taking Care of Elvis
REFRESH-INTERVAL;VALUE=DURATION:PT1H
X-Robots-Tag:noindex
X-PUBLISHED-TTL:PT1H
BEGIN:VTIMEZONE
TZID:UTC
BEGIN:STANDARD
TZOFFSETFROM:+0000
TZOFFSETTO:+0000
TZNAME:UTC
DTSTART:20250101T000000
END:STANDARD
END:VTIMEZONE
BEGIN:VEVENT
DTSTART;TZID=UTC:20250502T193000
DTEND;TZID=UTC:20250502T220000
DTSTAMP:20260420T042045
CREATED:20240930T140227Z
LAST-MODIFIED:20250226T130124Z
UID:2453-1746214200-1746223200@www.takingcareofelvis.co.uk
SUMMARY:Ben Portsmouth: This is Elvis 2025 Tour - St. George's Hall\, Bradford
DESCRIPTION:Internationally renowned as one of the best Elvis Tribute Artists in the world today\, Ben Portsmouth\, together with his Taking Care of Elvis Band\, will bring his unique style and charisma to the stage. Ben will show audiences exactly why he was crowned the Ultimate Elvis Tribute Artist by Elvis Presley Enterprises in 2012 and why he is regarded as the best in the business. \nHis spectacular show\, The King is Back\, takes audiences through the various eras of Elvis’s career\, culminating in the iconic Vegas years. \nYou will see for yourself why Ben left David Letterman at a loss for words exclaiming “Oh my God\, oh my God!” when Ben headlined Elvis week on the Late Show in New York in February of 2013.
URL:https://www.takingcareofelvis.co.uk/event/ben-portsmouth-this-is-elvis-2024-tour-st-georges-hall-bradford/
LOCATION:St. Georges Hall\, Bradford\, Bridge St\, Bradford\, West Yorkshire\, BD1 1JT\, United Kingdom
ATTACH;FMTTYPE=image/jpeg:https://www.takingcareofelvis.co.uk/wp-content/uploads/2023/03/ben-portsmouth-this-is-elvis-2024-tour-banner.jpg
END:VEVENT
BEGIN:VEVENT
DTSTART;TZID=UTC:20250514T200000
DTEND;TZID=UTC:20250514T220000
DTSTAMP:20260420T042045
CREATED:20230525T152309Z
LAST-MODIFIED:20250226T130055Z
UID:1983-1747252800-1747260000@www.takingcareofelvis.co.uk
SUMMARY:Ben Portsmouth: This is Elvis 2025 Tour - Cork Opera House\, Ireland
DESCRIPTION:Internationally renowned as one of the best Elvis Tribute Artists in the world today\, Ben Portsmouth\, together with his Taking Care of Elvis Band\, will bring his unique style and charisma to the stage. Ben will show audiences exactly why he was crowned the Ultimate Elvis Tribute Artist by Elvis Presley Enterprises in 2012 and why he is regarded as the best in the business. \nHis spectacular show\, The King is Back\, takes audiences through the various eras of Elvis’s career\, culminating in the iconic Vegas years. \nYou will see for yourself why Ben left David Letterman at a loss for words exclaiming “Oh my God\, oh my God!” when Ben headlined Elvis week on the Late Show in New York in February of 2013.
URL:https://www.takingcareofelvis.co.uk/event/ben-portsmouth-this-is-elvis-2024-tour-cork-opera-house-ireland-2/
LOCATION:Cork Opera House\, Cork\, Emmett Pl\, Centre\, Cork\, Co. Cork\, \, T12 DW6P\, Ireland
ATTACH;FMTTYPE=image/jpeg:https://www.takingcareofelvis.co.uk/wp-content/uploads/2023/03/ben-portsmouth-this-is-elvis-2024-tour-banner.jpg
END:VEVENT
BEGIN:VEVENT
DTSTART;TZID=UTC:20250516T193000
DTEND;TZID=UTC:20250516T220000
DTSTAMP:20260420T042045
CREATED:20240104T111230Z
LAST-MODIFIED:20250226T130047Z
UID:2311-1747423800-1747432800@www.takingcareofelvis.co.uk
SUMMARY:Ben Portsmouth: This is Elvis 2025 Tour - 3Olympia\, Dublin
DESCRIPTION:Internationally renowned as one of the best Elvis Tribute Artists in the world today\, Ben Portsmouth\, together with his Taking Care of Elvis Band\, will bring his unique style and charisma to the stage. Ben will show audiences exactly why he was crowned the Ultimate Elvis Tribute Artist by Elvis Presley Enterprises in 2012 and why he is regarded as the best in the business. \nHis spectacular show\, The King is Back\, takes audiences through the various eras of Elvis’s career\, culminating in the iconic Vegas years. \nYou will see for yourself why Ben left David Letterman at a loss for words exclaiming “Oh my God\, oh my God!” when Ben headlined Elvis week on the Late Show in New York in February of 2013.
URL:https://www.takingcareofelvis.co.uk/event/ben-portsmouth-this-is-elvis-2024-tour-3olympia-dublin/
LOCATION:3Olympia Theatre\, Dublin\, 72 Dame St\, Temple Bar\, Dublin\, D02 K135\, Ireland
ATTACH;FMTTYPE=image/jpeg:https://www.takingcareofelvis.co.uk/wp-content/uploads/2023/03/ben-portsmouth-this-is-elvis-2024-tour-banner.jpg
END:VEVENT
BEGIN:VEVENT
DTSTART;TZID=UTC:20250517T193000
DTEND;TZID=UTC:20250517T220000
DTSTAMP:20260420T042045
CREATED:20240104T111324Z
LAST-MODIFIED:20250226T130041Z
UID:2313-1747510200-1747519200@www.takingcareofelvis.co.uk
SUMMARY:Ben Portsmouth: This is Elvis 2025 Tour - 3Olympia\, Dublin
DESCRIPTION:Internationally renowned as one of the best Elvis Tribute Artists in the world today\, Ben Portsmouth\, together with his Taking Care of Elvis Band\, will bring his unique style and charisma to the stage. Ben will show audiences exactly why he was crowned the Ultimate Elvis Tribute Artist by Elvis Presley Enterprises in 2012 and why he is regarded as the best in the business. \nHis spectacular show\, The King is Back\, takes audiences through the various eras of Elvis’s career\, culminating in the iconic Vegas years. \nYou will see for yourself why Ben left David Letterman at a loss for words exclaiming “Oh my God\, oh my God!” when Ben headlined Elvis week on the Late Show in New York in February of 2013.
URL:https://www.takingcareofelvis.co.uk/event/ben-portsmouth-this-is-elvis-2024-tour-3olympia-dublin-2/
LOCATION:3Olympia Theatre\, Dublin\, 72 Dame St\, Temple Bar\, Dublin\, D02 K135\, Ireland
ATTACH;FMTTYPE=image/jpeg:https://www.takingcareofelvis.co.uk/wp-content/uploads/2023/03/ben-portsmouth-this-is-elvis-2024-tour-banner.jpg
END:VEVENT
BEGIN:VEVENT
DTSTART;TZID=UTC:20250518T200000
DTEND;TZID=UTC:20250518T220000
DTSTAMP:20260420T042045
CREATED:20230525T152050Z
LAST-MODIFIED:20250226T130037Z
UID:1979-1747598400-1747605600@www.takingcareofelvis.co.uk
SUMMARY:Ben Portsmouth: This is Elvis 2025 Tour - TLT\, Drogheda\, Ireland
DESCRIPTION:Internationally renowned as one of the best Elvis Tribute Artists in the world today\, Ben Portsmouth\, together with his Taking Care of Elvis Band\, will bring his unique style and charisma to the stage. Ben will show audiences exactly why he was crowned the Ultimate Elvis Tribute Artist by Elvis Presley Enterprises in 2012 and why he is regarded as the best in the business. \nHis spectacular show\, The King is Back\, takes audiences through the various eras of Elvis’s career\, culminating in the iconic Vegas years. \nYou will see for yourself why Ben left David Letterman at a loss for words exclaiming “Oh my God\, oh my God!” when Ben headlined Elvis week on the Late Show in New York in February of 2013.
URL:https://www.takingcareofelvis.co.uk/event/ben-portsmouth-this-is-elvis-2024-tour-tlt-drogheda-ireland/
LOCATION:TLT Concert Hall\, Drogheda\, Ireland\, Matthew's Lane\, Lagavooren\, Drogheda\, Co. Louth\, Ireland
ATTACH;FMTTYPE=image/jpeg:https://www.takingcareofelvis.co.uk/wp-content/uploads/2023/03/ben-portsmouth-this-is-elvis-2024-tour-banner.jpg
END:VEVENT
BEGIN:VEVENT
DTSTART;TZID=UTC:20250529T193000
DTEND;TZID=UTC:20250529T220000
DTSTAMP:20260420T042045
CREATED:20240925T121210Z
LAST-MODIFIED:20250417T090126Z
UID:2450-1748547000-1748556000@www.takingcareofelvis.co.uk
SUMMARY:Ben Portsmouth: This is Elvis 2025 Tour - Bath Forum
DESCRIPTION:Internationally renowned as one of the best Elvis Tribute Artists in the world today\, Ben Portsmouth\, together with his Taking Care of Elvis Band\, will bring his unique style and charisma to the stage. Ben will show audiences exactly why he was crowned the Ultimate Elvis Tribute Artist by Elvis Presley Enterprises in 2012 and why he is regarded as the best in the business. \nHis spectacular show\, The King is Back\, takes audiences through the various eras of Elvis’s career\, culminating in the iconic Vegas years. \nYou will see for yourself why Ben left David Letterman at a loss for words exclaiming “Oh my God\, oh my God!” when Ben headlined Elvis week on the Late Show in New York in February of 2013.
URL:https://www.takingcareofelvis.co.uk/event/ben-portsmouth-this-is-elvis-2024-tour-venue-bath-forum/
LOCATION:Forum Theatre\, Bath\, 1A Forum Buildings\, Bath\, Somerset\, BA1 1UG\, United Kingdom
ATTACH;FMTTYPE=image/jpeg:https://www.takingcareofelvis.co.uk/wp-content/uploads/2023/03/ben-portsmouth-this-is-elvis-2024-tour-banner.jpg
END:VEVENT
END:VCALENDAR