BEGIN:VCALENDAR
VERSION:2.0
PRODID:-//Taking Care of Elvis - ECPv6.3.5//NONSGML v1.0//EN
CALSCALE:GREGORIAN
METHOD:PUBLISH
X-WR-CALNAME:Taking Care of Elvis
X-ORIGINAL-URL:https://www.takingcareofelvis.co.uk
X-WR-CALDESC:Events for Taking Care of Elvis
REFRESH-INTERVAL;VALUE=DURATION:PT1H
X-Robots-Tag:noindex
X-PUBLISHED-TTL:PT1H
BEGIN:VTIMEZONE
TZID:UTC
BEGIN:STANDARD
TZOFFSETFROM:+0000
TZOFFSETTO:+0000
TZNAME:UTC
DTSTART:20250101T000000
END:STANDARD
END:VTIMEZONE
BEGIN:VEVENT
DTSTART;TZID=UTC:20250824T170000
DTEND;TZID=UTC:20250824T190000
DTSTAMP:20260420T005914
CREATED:20241213T092353Z
LAST-MODIFIED:20250502T165709Z
UID:2501-1756054800-1756062000@www.takingcareofelvis.co.uk
SUMMARY:Ben Portsmouth & Friends "Acoustic Evening" - HOF's Bar & Dining\, Henley on Thames
DESCRIPTION:A rare opportunity to join Ben and friends for an intimate Acoustic Evening playing songs from the 50s – 90 at Hof’s Bar and Dining\, Henley
URL:https://www.takingcareofelvis.co.uk/event/ben-portsmouth-friends-acoustic-evening-hofs-bar-dining-henley-on-thames/
LOCATION:HOF’s Bar & Dining\, Henley on Thames\, 38 Market Place\, Henley-on-Thames\, Oxfordshire\, RG9 2AH\, United Kingdom
ATTACH;FMTTYPE=image/jpeg:https://www.takingcareofelvis.co.uk/wp-content/uploads/2024/12/Hofs-1.jpeg
END:VEVENT
END:VCALENDAR