BEGIN:VCALENDAR
VERSION:2.0
PRODID:-//Taking Care of Elvis - ECPv6.3.5//NONSGML v1.0//EN
CALSCALE:GREGORIAN
METHOD:PUBLISH
X-ORIGINAL-URL:https://www.takingcareofelvis.co.uk
X-WR-CALDESC:Events for Taking Care of Elvis
REFRESH-INTERVAL;VALUE=DURATION:PT1H
X-Robots-Tag:noindex
X-PUBLISHED-TTL:PT1H
BEGIN:VTIMEZONE
TZID:UTC
BEGIN:STANDARD
TZOFFSETFROM:+0000
TZOFFSETTO:+0000
TZNAME:UTC
DTSTART:20250101T000000
END:STANDARD
END:VTIMEZONE
BEGIN:VEVENT
DTSTART;TZID=UTC:20250411T193000
DTEND;TZID=UTC:20250411T220000
DTSTAMP:20260420T073557
CREATED:20231107T155617Z
LAST-MODIFIED:20250226T130224Z
UID:2135-1744399800-1744408800@www.takingcareofelvis.co.uk
SUMMARY:Ben Portsmouth: This is Elvis 2025 Tour - Aberdeen Music Hall
DESCRIPTION:Internationally renowned as one of the best Elvis Tribute Artists in the world today\, Ben Portsmouth\, together with his Taking Care of Elvis Band\, will bring his unique style and charisma to the stage. Ben will show audiences exactly why he was crowned the Ultimate Elvis Tribute Artist by Elvis Presley Enterprises in 2012 and why he is regarded as the best in the business. \nHis spectacular show\, The King is Back\, takes audiences through the various eras of Elvis’s career\, culminating in the iconic Vegas years. \nYou will see for yourself why Ben left David Letterman at a loss for words exclaiming “Oh my God\, oh my God!” when Ben headlined Elvis week on the Late Show in New York in February of 2013.
URL:https://www.takingcareofelvis.co.uk/event/ben-portsmouth-this-is-elvis-2024-tour-aberdeen-music-hall/
LOCATION:Aberdeen Music Hall\, Music Hall\, Union St\, Aberdeen\, AB10 1QS\, United Kingdom
ATTACH;FMTTYPE=image/jpeg:https://www.takingcareofelvis.co.uk/wp-content/uploads/2023/03/ben-portsmouth-this-is-elvis-2024-tour-banner.jpg
END:VEVENT
END:VCALENDAR